BEGIN:VCALENDAR
VERSION:2.0
PRODID:-//wp-events-plugin.com//7.2.3.1//EN
TZID:America/Los_Angeles
X-WR-TIMEZONE:America/Los_Angeles
BEGIN:VEVENT
UID:31@kahaljoseph.org
DTSTART;TZID=America/Los_Angeles:20220116T093000
DTEND;TZID=America/Los_Angeles:20220116T120000
DTSTAMP:20211228T190143Z
URL:https://www.kahaljoseph.org/events/kj-tu-bishvat-hike/
SUMMARY:KJ Tu Bishvat Hike
DESCRIPTION:
ATTACH;FMTTYPE=image/jpeg:https://www.kahaljoseph.org/wp-content/uploads/2
 021/12/KJ-Tu-Bishvat-Hike-Rev.jpg
END:VEVENT
BEGIN:VTIMEZONE
TZID:America/Los_Angeles
X-LIC-LOCATION:America/Los_Angeles
BEGIN:STANDARD
DTSTART:20211107T010000
TZOFFSETFROM:-0700
TZOFFSETTO:-0800
TZNAME:PST
END:STANDARD
END:VTIMEZONE
END:VCALENDAR